BEGIN:VCALENDAR
VERSION:2.0
BEGIN:VEVENT
DTSTART;TZID=Europe/Stockholm:20240327T190000
DTEND;TZID=Europe/Stockholm:20240327T200000
DTSTAMP:20260419T150723
DESCRIPTION:Klippan
SEQUENCE:0
SUMMARY:Livsnära samtal och bön
UID:5899@lawebb.se
END:VEVENT
END:VCALENDAR