BEGIN:VCALENDAR
VERSION:2.0
BEGIN:VEVENT
DTSTART;TZID=Europe/Stockholm:20240424T190000
DTEND;TZID=Europe/Stockholm:20240424T200000
DTSTAMP:20260419T165331
DESCRIPTION:Klippan
SEQUENCE:0
SUMMARY:Livsnära samtal och bön
UID:2927@lawebb.se
END:VEVENT
END:VCALENDAR