BEGIN:VCALENDAR
VERSION:2.0
BEGIN:VEVENT
DTSTART;TZID=Europe/Stockholm:20240508T190000
DTEND;TZID=Europe/Stockholm:20240508T200000
DTSTAMP:20260419T184329
DESCRIPTION:Klippan
SEQUENCE:0
SUMMARY:Livsnära samtal och bön
UID:3824@lawebb.se
END:VEVENT
END:VCALENDAR