BEGIN:VCALENDAR
VERSION:2.0
BEGIN:VEVENT
DTSTART;TZID=Europe/Stockholm:20241003T183000
DTEND;TZID=Europe/Stockholm:20241003T193000
DTSTAMP:20260422T055134
DESCRIPTION:
SEQUENCE:0
SUMMARY:Beta-kurs i Klippan för anmälda
UID:5825@lawebb.se
END:VEVENT
END:VCALENDAR