BEGIN:VCALENDAR
VERSION:2.0
BEGIN:VEVENT
DTSTART;TZID=Europe/Stockholm:20241010T183000
DTEND;TZID=Europe/Stockholm:20241010T193000
DTSTAMP:20260422T055407
DESCRIPTION:
SEQUENCE:0
SUMMARY:Beta-kurs i Klippan för anmälda
UID:4989@lawebb.se
END:VEVENT
END:VCALENDAR