BEGIN:VCALENDAR
VERSION:2.0
BEGIN:VEVENT
DTSTART;TZID=Europe/Stockholm:20241031T150000
DTEND;TZID=Europe/Stockholm:20241031T160000
DTSTAMP:20260422T055301
DESCRIPTION:Sista torsdagen i månaden är det stickcafé i Väse. Välkommen för gemenskap och fixande av garn m.m.
SEQUENCE:0
SUMMARY:Stickcafé i Equmeniakyrkan i Väse
UID:6466@lawebb.se
END:VEVENT
END:VCALENDAR