BEGIN:VCALENDAR
VERSION:2.0
BEGIN:VEVENT
DTSTART;TZID=Europe/Stockholm:20241031T183000
DTEND;TZID=Europe/Stockholm:20241031T193000
DTSTAMP:20260422T055607
DESCRIPTION:
SEQUENCE:0
SUMMARY:Beta-kurs i Klippan för anmälda
UID:4695@lawebb.se
END:VEVENT
END:VCALENDAR