BEGIN:VCALENDAR
VERSION:2.0
BEGIN:VEVENT
DTSTART;TZID=Europe/Stockholm:20241107T183000
DTEND;TZID=Europe/Stockholm:20241107T193000
DTSTAMP:20260422T035113
DESCRIPTION:
SEQUENCE:0
SUMMARY:Beta-kurs i Klippan för anmälda
UID:8987@lawebb.se
END:VEVENT
END:VCALENDAR